BEGIN:VCALENDAR
VERSION:2.0
PRODID:-//Willy-Brandt-Gesamtschule - ECPv4.9.14.1//NONSGML v1.0//EN
CALSCALE:GREGORIAN
METHOD:PUBLISH
X-WR-CALNAME:Willy-Brandt-Gesamtschule
X-ORIGINAL-URL:https://www.wbgs-koeln.de
X-WR-CALDESC:Veranstaltungen für Willy-Brandt-Gesamtschule
BEGIN:VTIMEZONE
TZID:Europe/Berlin
BEGIN:DAYLIGHT
TZOFFSETFROM:+0100
TZOFFSETTO:+0200
TZNAME:CEST
DTSTART:20130331T010000
END:DAYLIGHT
BEGIN:STANDARD
TZOFFSETFROM:+0200
TZOFFSETTO:+0100
TZNAME:CET
DTSTART:20131027T010000
END:STANDARD
END:VTIMEZONE
BEGIN:VEVENT
DTSTART;TZID=Europe/Berlin:20131212T193000
DTEND;TZID=Europe/Berlin:20131212T213000
DTSTAMP:20260424T084257
CREATED:20131205T104158Z
LAST-MODIFIED:20131205T104540Z
UID:3361-1386876600-1386883800@www.wbgs-koeln.de
SUMMARY:SOMOS - wir sind! Veranstaltung
DESCRIPTION:
URL:https://www.wbgs-koeln.de/event/somos-wir-sind-veranstaltung/
LOCATION:Pädagogisches Zentrum (PZ)
CATEGORIES:Schulleben
END:VEVENT
END:VCALENDAR