BEGIN:VCALENDAR
VERSION:2.0
PRODID:-//Willy-Brandt-Gesamtschule - ECPv4.9.14.1//NONSGML v1.0//EN
CALSCALE:GREGORIAN
METHOD:PUBLISH
X-WR-CALNAME:Willy-Brandt-Gesamtschule
X-ORIGINAL-URL:https://www.wbgs-koeln.de
X-WR-CALDESC:Veranstaltungen für Willy-Brandt-Gesamtschule
BEGIN:VTIMEZONE
TZID:Europe/Berlin
BEGIN:DAYLIGHT
TZOFFSETFROM:+0100
TZOFFSETTO:+0200
TZNAME:CEST
DTSTART:20140330T010000
END:DAYLIGHT
BEGIN:STANDARD
TZOFFSETFROM:+0200
TZOFFSETTO:+0100
TZNAME:CET
DTSTART:20141026T010000
END:STANDARD
END:VTIMEZONE
BEGIN:VEVENT
DTSTART;VALUE=DATE:20140113
DTEND;VALUE=DATE:20140125
DTSTAMP:20260424T105309
CREATED:20130913T135113Z
LAST-MODIFIED:20130913T135113Z
UID:1481-1389571200-1390607999@www.wbgs-koeln.de
SUMMARY:Schülerbetriebspraktikum Jg. 10: 13.01.-24.01.2014
DESCRIPTION:
URL:https://www.wbgs-koeln.de/event/schulerbetriebspraktikum-jg-10-13-01-24-01-2014/
CATEGORIES:Schule
END:VEVENT
END:VCALENDAR