BEGIN:VCALENDAR
VERSION:2.0
PRODID:-//Willy-Brandt-Gesamtschule - ECPv4.9.14.1//NONSGML v1.0//EN
CALSCALE:GREGORIAN
METHOD:PUBLISH
X-WR-CALNAME:Willy-Brandt-Gesamtschule
X-ORIGINAL-URL:https://www.wbgs-koeln.de
X-WR-CALDESC:Veranstaltungen für Willy-Brandt-Gesamtschule
BEGIN:VTIMEZONE
TZID:Europe/Berlin
BEGIN:DAYLIGHT
TZOFFSETFROM:+0100
TZOFFSETTO:+0200
TZNAME:CEST
DTSTART:20130331T010000
END:DAYLIGHT
BEGIN:STANDARD
TZOFFSETFROM:+0200
TZOFFSETTO:+0100
TZNAME:CET
DTSTART:20131027T010000
END:STANDARD
END:VTIMEZONE
BEGIN:VEVENT
DTSTART;TZID=Europe/Berlin:20131209T190000
DTEND;TZID=Europe/Berlin:20131209T220000
DTSTAMP:20260424T105940
CREATED:20130913T134313Z
LAST-MODIFIED:20131204T174409Z
UID:1473-1386615600-1386626400@www.wbgs-koeln.de
SUMMARY:Kulturbeutel (Springmaus)
DESCRIPTION:Merry Christmaus\n
URL:https://www.wbgs-koeln.de/event/kulturbeutel-springmaus/
CATEGORIES:Schulleben
END:VEVENT
END:VCALENDAR