BEGIN:VCALENDAR
VERSION:2.0
PRODID:-//Willy-Brandt-Gesamtschule - ECPv4.9.14.1//NONSGML v1.0//EN
CALSCALE:GREGORIAN
METHOD:PUBLISH
X-WR-CALNAME:Willy-Brandt-Gesamtschule
X-ORIGINAL-URL:https://www.wbgs-koeln.de
X-WR-CALDESC:Veranstaltungen für Willy-Brandt-Gesamtschule
BEGIN:VTIMEZONE
TZID:Europe/Berlin
BEGIN:DAYLIGHT
TZOFFSETFROM:+0100
TZOFFSETTO:+0200
TZNAME:CEST
DTSTART:20130331T010000
END:DAYLIGHT
BEGIN:STANDARD
TZOFFSETFROM:+0200
TZOFFSETTO:+0100
TZNAME:CET
DTSTART:20131027T010000
END:STANDARD
END:VTIMEZONE
BEGIN:VEVENT
DTSTART;TZID=Europe/Berlin:20131202T190000
DTEND;TZID=Europe/Berlin:20131202T210000
DTSTAMP:20260424T154313
CREATED:20130913T133900Z
LAST-MODIFIED:20130913T134354Z
UID:1471-1386010800-1386018000@www.wbgs-koeln.de
SUMMARY:Elterninformationsabend zur Berufsorientierung Jg. 8
DESCRIPTION:
URL:https://www.wbgs-koeln.de/event/elterninformationsabend-zur-berufsorientierung-jg-8/
CATEGORIES:Schule
END:VEVENT
END:VCALENDAR