BEGIN:VCALENDAR
VERSION:2.0
PRODID:-//Willy-Brandt-Gesamtschule - ECPv4.9.14.1//NONSGML v1.0//EN
CALSCALE:GREGORIAN
METHOD:PUBLISH
X-WR-CALNAME:Willy-Brandt-Gesamtschule
X-ORIGINAL-URL:https://www.wbgs-koeln.de
X-WR-CALDESC:Veranstaltungen für Willy-Brandt-Gesamtschule
BEGIN:VTIMEZONE
TZID:Europe/Berlin
BEGIN:DAYLIGHT
TZOFFSETFROM:+0100
TZOFFSETTO:+0200
TZNAME:CEST
DTSTART:20140330T010000
END:DAYLIGHT
BEGIN:STANDARD
TZOFFSETFROM:+0200
TZOFFSETTO:+0100
TZNAME:CET
DTSTART:20141026T010000
END:STANDARD
END:VTIMEZONE
BEGIN:VEVENT
DTSTART;TZID=Europe/Berlin:20140207T110000
DTEND;TZID=Europe/Berlin:20140207T130000
DTSTAMP:20260424T084852
CREATED:20130913T135652Z
LAST-MODIFIED:20130913T135652Z
UID:1491-1391770800-1391778000@www.wbgs-koeln.de
SUMMARY:Beratungstag 1 mit Zeugnisausgabe
DESCRIPTION:
URL:https://www.wbgs-koeln.de/event/beratungstag-1-mit-zeugnisausgabe/
CATEGORIES:Schule
END:VEVENT
END:VCALENDAR