BEGIN:VCALENDAR
VERSION:2.0
PRODID:-//Willy-Brandt-Gesamtschule - ECPv4.9.14.1//NONSGML v1.0//EN
CALSCALE:GREGORIAN
METHOD:PUBLISH
X-WR-CALNAME:Willy-Brandt-Gesamtschule
X-ORIGINAL-URL:https://www.wbgs-koeln.de
X-WR-CALDESC:Veranstaltungen für Willy-Brandt-Gesamtschule
BEGIN:VTIMEZONE
TZID:Europe/Berlin
BEGIN:DAYLIGHT
TZOFFSETFROM:+0100
TZOFFSETTO:+0200
TZNAME:CEST
DTSTART:20130331T010000
END:DAYLIGHT
BEGIN:STANDARD
TZOFFSETFROM:+0200
TZOFFSETTO:+0100
TZNAME:CET
DTSTART:20131027T010000
END:STANDARD
END:VTIMEZONE
BEGIN:VEVENT
DTSTART;TZID=Europe/Berlin:20131216T190000
DTEND;TZID=Europe/Berlin:20131216T210000
DTSTAMP:20260422T200800
CREATED:20130913T134627Z
LAST-MODIFIED:20130913T134627Z
UID:1476-1387220400-1387227600@www.wbgs-koeln.de
SUMMARY:2. Schulpflegschaft
DESCRIPTION:
URL:https://www.wbgs-koeln.de/event/2-schulpflegschaft/
CATEGORIES:Schule
END:VEVENT
END:VCALENDAR